BEGIN:VCALENDAR
VERSION:2.0
PRODID:-//wp-events-plugin.com//7.2.3.1//EN
TZID:America/Chicago
X-WR-TIMEZONE:America/Chicago
BEGIN:VEVENT
UID:1@lupustexas.org
DTSTART;TZID=America/Chicago:20260425T070000
DTEND;TZID=America/Chicago:20260425T110000
DTSTAMP:20260421T192011Z
URL:https://lupustexas.org/events/black-mens-wellness-day/
SUMMARY:Black Men's Wellness Day
DESCRIPTION:
LOCATION:Community of Faith Church\, 1024 Pinemont Dr\, Houston\, TX\, 7709
 1\, United States
X-APPLE-STRUCTURED-LOCATION;VALUE=URI;X-ADDRESS=1024 Pinemont Dr\, Houston\
 , TX\, 77091\, United States;X-APPLE-RADIUS=100;X-TITLE=Community of Faith
  Church:geo:0,0
END:VEVENT
BEGIN:VEVENT
UID:2@lupustexas.org
DTSTART;TZID=America/Chicago:20260425T110000
DTEND;TZID=America/Chicago:20260425T150000
DTSTAMP:20260421T193703Z
URL:https://lupustexas.org/events/tamina-day/
SUMMARY:Tamina Day
DESCRIPTION:
ATTACH;FMTTYPE=image/jpeg:https://lupustexas.org/wp-content/uploads/2026/0
 4/FINAL-Tamina-Day-2026-Flyer.jpg
CATEGORIES:Community Events
LOCATION:Tamina Park Community Building\, 19500 Main St\, Conroe\, TX\, 773
 85\, 
X-APPLE-STRUCTURED-LOCATION;VALUE=URI;X-ADDRESS=19500 Main St\, Conroe\, TX
 \, 77385\, ;X-APPLE-RADIUS=100;X-TITLE=Tamina Park Community Building:geo:
 0,0
END:VEVENT
BEGIN:VEVENT
UID:3@lupustexas.org
DTSTART;TZID=America/Chicago:20260502T070000
DTEND;TZID=America/Chicago:20260502T120000
DTSTAMP:20260421T194459Z
URL:https://lupustexas.org/events/2026-houston-walk-to-end-lupus-now/
SUMMARY:2026 Houston Walk to End Lupus Now
DESCRIPTION:
ATTACH;FMTTYPE=image/jpeg:https://lupustexas.org/wp-content/uploads/2026/0
 1/WELN-HOU-2026.png
CATEGORIES:Walk to End Lupus Now
LOCATION:Texas Southern University\, 3347 Blodgett St\, Houston\, TX\, 7700
 4\, United States
X-APPLE-STRUCTURED-LOCATION;VALUE=URI;X-ADDRESS=3347 Blodgett St\, Houston\
 , TX\, 77004\, United States;X-APPLE-RADIUS=100;X-TITLE=Texas Southern Uni
 versity:geo:0,0
END:VEVENT
BEGIN:VEVENT
UID:4@lupustexas.org
DTSTART;TZID=America/Chicago:20260502T190000
DTEND;TZID=America/Chicago:20260502T220000
DTSTAMP:20260421T195330Z
URL:https://lupustexas.org/events/the-dilla-effect-lupus-awareness-sneaker
 -ball/
SUMMARY:The Dilla Effect Lupus Awareness Sneaker Ball
DESCRIPTION:Come enjoy a night of music\, culture\, and purpose to honor th
 e legacy of J Dilla and to raise lupus awareness!\nGet your tickets!
ATTACH;FMTTYPE=image/jpeg:https://lupustexas.org/wp-content/uploads/2026/0
 2/sneaker-ball-e1776800910399.png
CATEGORIES:Lupus Awareness
LOCATION:The Olive Tree\, 4010 Fairmont Pkwy\, Pasadena\, TX\, 77504\, Unit
 ed States
X-APPLE-STRUCTURED-LOCATION;VALUE=URI;X-ADDRESS=4010 Fairmont Pkwy\, Pasade
 na\, TX\, 77504\, United States;X-APPLE-RADIUS=100;X-TITLE=The Olive Tree:
 geo:0,0
END:VEVENT
BEGIN:VEVENT
UID:5@lupustexas.org
DTSTART;TZID=America/Chicago:20260530T070000
DTEND;TZID=America/Chicago:20260530T110000
DTSTAMP:20260421T195721Z
URL:https://lupustexas.org/events/pearland-in-purple-the-inaugural-brazori
 a-county-lupus-walk/
SUMMARY:Pearland In Purple: The Inaugural Brazoria County Lupus Walk
DESCRIPTION:\n\n
ATTACH;FMTTYPE=image/jpeg:https://lupustexas.org/wp-content/uploads/2026/0
 2/aka-psi-mu-omega.jpg
CATEGORIES:Walk/Run
LOCATION:Independence Park\, 3449 Pearland Pkwy\, Pearland\, TX\, 77581\, U
 nited States
X-APPLE-STRUCTURED-LOCATION;VALUE=URI;X-ADDRESS=3449 Pearland Pkwy\, Pearla
 nd\, TX\, 77581\, United States;X-APPLE-RADIUS=100;X-TITLE=Independence Pa
 rk:geo:0,0
END:VEVENT
BEGIN:VTIMEZONE
TZID:America/Chicago
X-LIC-LOCATION:America/Chicago
BEGIN:DAYLIGHT
DTSTART:20260308T030000
TZOFFSETFROM:-0600
TZOFFSETTO:-0500
TZNAME:CDT
END:DAYLIGHT
END:VTIMEZONE
END:VCALENDAR