BEGIN:VCALENDAR
VERSION:2.0
PRODID:-//Lupus Foundation of America Texas Gulf Coast Chapter - ECPv6.15.20//NONSGML v1.0//EN
CALSCALE:GREGORIAN
METHOD:PUBLISH
X-ORIGINAL-URL:https://lupustexas.org
X-WR-CALDESC:Events for Lupus Foundation of America Texas Gulf Coast Chapter
REFRESH-INTERVAL;VALUE=DURATION:PT1H
X-Robots-Tag:noindex
X-PUBLISHED-TTL:PT1H
BEGIN:VTIMEZONE
TZID:America/Chicago
BEGIN:DAYLIGHT
TZOFFSETFROM:-0600
TZOFFSETTO:-0500
TZNAME:CDT
DTSTART:20240310T080000
END:DAYLIGHT
BEGIN:STANDARD
TZOFFSETFROM:-0500
TZOFFSETTO:-0600
TZNAME:CST
DTSTART:20241103T070000
END:STANDARD
BEGIN:DAYLIGHT
TZOFFSETFROM:-0600
TZOFFSETTO:-0500
TZNAME:CDT
DTSTART:20250309T080000
END:DAYLIGHT
BEGIN:STANDARD
TZOFFSETFROM:-0500
TZOFFSETTO:-0600
TZNAME:CST
DTSTART:20251102T070000
END:STANDARD
BEGIN:DAYLIGHT
TZOFFSETFROM:-0600
TZOFFSETTO:-0500
TZNAME:CDT
DTSTART:20260308T080000
END:DAYLIGHT
BEGIN:STANDARD
TZOFFSETFROM:-0500
TZOFFSETTO:-0600
TZNAME:CST
DTSTART:20261101T070000
END:STANDARD
END:VTIMEZONE
BEGIN:VEVENT
DTSTART;TZID=America/Chicago:20250622T180500
DTEND;TZID=America/Chicago:20250622T220000
DTSTAMP:20260421T032010
CREATED:20250606T215905Z
LAST-MODIFIED:20250606T215905Z
UID:195-1750615500-1750629600@lupustexas.org
SUMMARY:Strike Out Lupus!
DESCRIPTION:
URL:https://lupustexas.org/event/strike-out-lupus/
LOCATION:Constellation Field\, 1 Stadium Dr\, Sugar Land\, TX\, 77498\, United States
CATEGORIES:Community Outreach
ATTACH;FMTTYPE=image/png:https://lupustexas.org/wp-content/uploads/2025/06/Strike-Out-Lupus-buytickets-e1750273748965.png
END:VEVENT
END:VCALENDAR