BEGIN:VCALENDAR
VERSION:2.0
PRODID:-//wp-events-plugin.com//7.2.3.1//EN
TZID:America/Chicago
X-WR-TIMEZONE:America/Chicago
BEGIN:VEVENT
UID:3@lupustexas.org
DTSTART;TZID=America/Chicago:20260502T070000
DTEND;TZID=America/Chicago:20260502T120000
DTSTAMP:20260421T194459Z
URL:https://lupustexas.org/events/2026-houston-walk-to-end-lupus-now/
SUMMARY:2026 Houston Walk to End Lupus Now
DESCRIPTION:
ATTACH;FMTTYPE=image/jpeg:https://lupustexas.org/wp-content/uploads/2026/0
 1/WELN-HOU-2026.png
CATEGORIES:Walk to End Lupus Now
LOCATION:Texas Southern University\, 3347 Blodgett St\, Houston\, TX\, 7700
 4\, United States
X-APPLE-STRUCTURED-LOCATION;VALUE=URI;X-ADDRESS=3347 Blodgett St\, Houston\
 , TX\, 77004\, United States;X-APPLE-RADIUS=100;X-TITLE=Texas Southern Uni
 versity:geo:0,0
END:VEVENT
BEGIN:VTIMEZONE
TZID:America/Chicago
X-LIC-LOCATION:America/Chicago
BEGIN:DAYLIGHT
DTSTART:20260308T030000
TZOFFSETFROM:-0600
TZOFFSETTO:-0500
TZNAME:CDT
END:DAYLIGHT
END:VTIMEZONE
END:VCALENDAR